BEGIN:VCALENDAR
VERSION:2.0
PRODID:-//jeffamsbaugh.com - ECPv6.15.13//NONSGML v1.0//EN
CALSCALE:GREGORIAN
METHOD:PUBLISH
X-WR-CALNAME:jeffamsbaugh.com
X-ORIGINAL-URL:https://www.jeffamsbaugh.com
X-WR-CALDESC:Events for jeffamsbaugh.com
REFRESH-INTERVAL;VALUE=DURATION:PT1H
X-Robots-Tag:noindex
X-PUBLISHED-TTL:PT1H
BEGIN:VTIMEZONE
TZID:America/New_York
BEGIN:DAYLIGHT
TZOFFSETFROM:-0500
TZOFFSETTO:-0400
TZNAME:EDT
DTSTART:20200308T070000
END:DAYLIGHT
BEGIN:STANDARD
TZOFFSETFROM:-0400
TZOFFSETTO:-0500
TZNAME:EST
DTSTART:20201101T060000
END:STANDARD
BEGIN:DAYLIGHT
TZOFFSETFROM:-0500
TZOFFSETTO:-0400
TZNAME:EDT
DTSTART:20210314T070000
END:DAYLIGHT
BEGIN:STANDARD
TZOFFSETFROM:-0400
TZOFFSETTO:-0500
TZNAME:EST
DTSTART:20211107T060000
END:STANDARD
BEGIN:DAYLIGHT
TZOFFSETFROM:-0500
TZOFFSETTO:-0400
TZNAME:EDT
DTSTART:20220313T070000
END:DAYLIGHT
BEGIN:STANDARD
TZOFFSETFROM:-0400
TZOFFSETTO:-0500
TZNAME:EST
DTSTART:20221106T060000
END:STANDARD
BEGIN:DAYLIGHT
TZOFFSETFROM:-0500
TZOFFSETTO:-0400
TZNAME:EDT
DTSTART:20230312T070000
END:DAYLIGHT
BEGIN:STANDARD
TZOFFSETFROM:-0400
TZOFFSETTO:-0500
TZNAME:EST
DTSTART:20231105T060000
END:STANDARD
BEGIN:DAYLIGHT
TZOFFSETFROM:-0500
TZOFFSETTO:-0400
TZNAME:EDT
DTSTART:20240310T070000
END:DAYLIGHT
BEGIN:STANDARD
TZOFFSETFROM:-0400
TZOFFSETTO:-0500
TZNAME:EST
DTSTART:20241103T060000
END:STANDARD
BEGIN:DAYLIGHT
TZOFFSETFROM:-0500
TZOFFSETTO:-0400
TZNAME:EDT
DTSTART:20250309T070000
END:DAYLIGHT
BEGIN:STANDARD
TZOFFSETFROM:-0400
TZOFFSETTO:-0500
TZNAME:EST
DTSTART:20251102T060000
END:STANDARD
BEGIN:DAYLIGHT
TZOFFSETFROM:-0500
TZOFFSETTO:-0400
TZNAME:EDT
DTSTART:20260308T070000
END:DAYLIGHT
BEGIN:STANDARD
TZOFFSETFROM:-0400
TZOFFSETTO:-0500
TZNAME:EST
DTSTART:20261101T060000
END:STANDARD
BEGIN:DAYLIGHT
TZOFFSETFROM:-0500
TZOFFSETTO:-0400
TZNAME:EDT
DTSTART:20270314T070000
END:DAYLIGHT
BEGIN:STANDARD
TZOFFSETFROM:-0400
TZOFFSETTO:-0500
TZNAME:EST
DTSTART:20271107T060000
END:STANDARD
END:VTIMEZONE
BEGIN:VEVENT
DTSTART;VALUE=DATE:20260329
DTEND;VALUE=DATE:20260330
DTSTAMP:20260423T181320
CREATED:20250412T184442Z
LAST-MODIFIED:20250412T184442Z
UID:18247-1774742400-1774828799@www.jeffamsbaugh.com
SUMMARY:Missions Emphasis Sunday
DESCRIPTION:Cranberry Baptist Church\nBeckley\, WV
URL:https://www.jeffamsbaugh.com/event/missions-emphasis-sunday/
END:VEVENT
BEGIN:VEVENT
DTSTART;VALUE=DATE:20260201
DTEND;VALUE=DATE:20260205
DTSTAMP:20260423T181320
CREATED:20250412T184320Z
LAST-MODIFIED:20250412T184320Z
UID:18245-1769904000-1770249599@www.jeffamsbaugh.com
SUMMARY:Bible Conference
DESCRIPTION:Hoschton Baptist Church\nHoschton\, GA
URL:https://www.jeffamsbaugh.com/event/bible-conference-3/
END:VEVENT
BEGIN:VEVENT
DTSTART;VALUE=DATE:20260125
DTEND;VALUE=DATE:20260126
DTSTAMP:20260423T181320
CREATED:20250412T184209Z
LAST-MODIFIED:20250412T184209Z
UID:18243-1769299200-1769385599@www.jeffamsbaugh.com
SUMMARY:Revival
DESCRIPTION:West Jacksonville Baptist Church\nJacksonville\, FL
URL:https://www.jeffamsbaugh.com/event/revival-4/
END:VEVENT
BEGIN:VEVENT
DTSTART;VALUE=DATE:20250915
DTEND;VALUE=DATE:20250918
DTSTAMP:20260423T181320
CREATED:20250412T184053Z
LAST-MODIFIED:20250412T184053Z
UID:18241-1757894400-1758153599@www.jeffamsbaugh.com
SUMMARY:Revival
DESCRIPTION:Victory Bible Baptist Church\nPorter Corners\, NY
URL:https://www.jeffamsbaugh.com/event/revival-3/
END:VEVENT
BEGIN:VEVENT
DTSTART;VALUE=DATE:20250912
DTEND;VALUE=DATE:20250915
DTSTAMP:20260423T181320
CREATED:20250116T235124Z
LAST-MODIFIED:20250116T235124Z
UID:17506-1757635200-1757894399@www.jeffamsbaugh.com
SUMMARY:Revival
DESCRIPTION:Wilton Baptist Church\nWilton\, NY
URL:https://www.jeffamsbaugh.com/event/revival-2/
END:VEVENT
BEGIN:VEVENT
DTSTART;VALUE=DATE:20250711
DTEND;VALUE=DATE:20250714
DTSTAMP:20260423T181320
CREATED:20250412T183917Z
LAST-MODIFIED:20250412T183917Z
UID:18238-1752192000-1752451199@www.jeffamsbaugh.com
SUMMARY:Couples Retreat
DESCRIPTION:Harvest Baptist Temple\nClyde\, Ohio
URL:https://www.jeffamsbaugh.com/event/couples-retreat/
END:VEVENT
BEGIN:VEVENT
DTSTART;VALUE=DATE:20250430
DTEND;VALUE=DATE:20250505
DTSTAMP:20260423T181320
CREATED:20250116T232013Z
LAST-MODIFIED:20250116T235011Z
UID:17502-1745971200-1746403199@www.jeffamsbaugh.com
SUMMARY:Missions Conference
DESCRIPTION:Bible Baptist Church\nHendersonville\, TN
URL:https://www.jeffamsbaugh.com/event/missions-conference-2/
END:VEVENT
BEGIN:VEVENT
DTSTART;VALUE=DATE:20250320
DTEND;VALUE=DATE:20250322
DTSTAMP:20260423T181320
CREATED:20250116T231834Z
LAST-MODIFIED:20250116T235605Z
UID:17500-1742428800-1742601599@www.jeffamsbaugh.com
SUMMARY:Family Life Conference
DESCRIPTION:Grace Bible Church\nElmer\, NJ
URL:https://www.jeffamsbaugh.com/event/family-life-conference/
END:VEVENT
BEGIN:VEVENT
DTSTART;VALUE=DATE:20250202
DTEND;VALUE=DATE:20250210
DTSTAMP:20260423T181320
CREATED:20250116T231652Z
LAST-MODIFIED:20250116T235538Z
UID:17498-1738454400-1739145599@www.jeffamsbaugh.com
SUMMARY:Bible Conference
DESCRIPTION:Huschton Baptist Church\nHuschton\, GA
URL:https://www.jeffamsbaugh.com/event/bible-conference-2/
END:VEVENT
BEGIN:VEVENT
DTSTART;VALUE=DATE:20240701
DTEND;VALUE=DATE:20240706
DTSTAMP:20260423T181320
CREATED:20230618T193733Z
LAST-MODIFIED:20240109T210650Z
UID:15196-1719792000-1720223999@www.jeffamsbaugh.com
SUMMARY:Bill Rice Ranch - Murfreesboro\, TN
DESCRIPTION:Family Camp
URL:https://www.jeffamsbaugh.com/event/bill-rice-ranch-murfreesboro-tn/
END:VEVENT
BEGIN:VEVENT
DTSTART;VALUE=DATE:20240520
DTEND;VALUE=DATE:20240525
DTSTAMP:20260423T181320
CREATED:20240109T210949Z
LAST-MODIFIED:20240109T210949Z
UID:15789-1716163200-1716595199@www.jeffamsbaugh.com
SUMMARY:BIMI European Field Conference - Croatia
DESCRIPTION:BIMI European Field Conference
URL:https://www.jeffamsbaugh.com/event/bimi-european-field-conference-croatia/
END:VEVENT
BEGIN:VEVENT
DTSTART;VALUE=DATE:20240515
DTEND;VALUE=DATE:20240517
DTSTAMP:20260423T181320
CREATED:20240109T210605Z
LAST-MODIFIED:20240109T210605Z
UID:15787-1715731200-1715903999@www.jeffamsbaugh.com
SUMMARY:Bible Baptist Church and Christian School - Kissimmee\, FL
DESCRIPTION:Commencement
URL:https://www.jeffamsbaugh.com/event/bible-baptist-church-and-christian-school-kissimmee-fl/
END:VEVENT
BEGIN:VEVENT
DTSTART;VALUE=DATE:20240418
DTEND;VALUE=DATE:20240422
DTSTAMP:20260423T181320
CREATED:20230618T193626Z
LAST-MODIFIED:20240109T210756Z
UID:15194-1713398400-1713743999@www.jeffamsbaugh.com
SUMMARY:Campbellsville Baptist Temple - Campbellsville\, KY
DESCRIPTION:Missions Conference
URL:https://www.jeffamsbaugh.com/event/campbellsville-baptist-temple-campbellsville-ky/
END:VEVENT
BEGIN:VEVENT
DTSTART;VALUE=DATE:20240204
DTEND;VALUE=DATE:20240208
DTSTAMP:20260423T181320
CREATED:20210928T145750Z
LAST-MODIFIED:20210928T191435Z
UID:12177-1707004800-1707350399@www.jeffamsbaugh.com
SUMMARY:Hoschton Baptist Church - Hoschton\, GA
DESCRIPTION:Bible Conference
URL:https://www.jeffamsbaugh.com/event/bible-conference/
END:VEVENT
BEGIN:VEVENT
DTSTART;VALUE=DATE:20231018
DTEND;VALUE=DATE:20231023
DTSTAMP:20260423T181320
CREATED:20210928T145626Z
LAST-MODIFIED:20210928T191323Z
UID:12174-1697587200-1698019199@www.jeffamsbaugh.com
SUMMARY:Heritage Baptist Church - Norwood\, MA
DESCRIPTION:Missions Conference
URL:https://www.jeffamsbaugh.com/event/missions-conference/
END:VEVENT
BEGIN:VEVENT
DTSTART;VALUE=DATE:20230625
DTEND;VALUE=DATE:20230626
DTSTAMP:20260423T181320
CREATED:20230618T193521Z
LAST-MODIFIED:20230618T193521Z
UID:15192-1687651200-1687737599@www.jeffamsbaugh.com
SUMMARY:North Love Baptist Church - Rockford\, IL
DESCRIPTION:Installation Service
URL:https://www.jeffamsbaugh.com/event/north-love-baptist-church-rockford-il/
END:VEVENT
BEGIN:VEVENT
DTSTART;VALUE=DATE:20230516
DTEND;VALUE=DATE:20230518
DTSTAMP:20260423T181320
CREATED:20221027T164126Z
LAST-MODIFIED:20221027T164126Z
UID:13939-1684195200-1684367999@www.jeffamsbaugh.com
SUMMARY:Bible Baptist Church - Kissimmee\, FL
DESCRIPTION:Commencement Exercises
URL:https://www.jeffamsbaugh.com/event/bible-baptist-church-kissimmee-fl/
END:VEVENT
BEGIN:VEVENT
DTSTART;VALUE=DATE:20221103
DTEND;VALUE=DATE:20221106
DTSTAMP:20260423T181320
CREATED:20210928T145456Z
LAST-MODIFIED:20210928T191232Z
UID:12172-1667433600-1667692799@www.jeffamsbaugh.com
SUMMARY:Bill Rice Ranch\, Murfreesboro\, TN
DESCRIPTION:Men’s Challenge
URL:https://www.jeffamsbaugh.com/event/mens-challenge/
END:VEVENT
BEGIN:VEVENT
DTSTART;VALUE=DATE:20221027
DTEND;VALUE=DATE:20221030
DTSTAMP:20260423T181320
CREATED:20221027T164008Z
LAST-MODIFIED:20221027T164008Z
UID:13937-1666828800-1667087999@www.jeffamsbaugh.com
SUMMARY:ChristChurch Baptist Fellowship - Houston\, TX
DESCRIPTION:Couples Retreat
URL:https://www.jeffamsbaugh.com/event/christchurch-baptist-fellowship-houston-tx/
END:VEVENT
BEGIN:VEVENT
DTSTART;VALUE=DATE:20221023
DTEND;VALUE=DATE:20221024
DTSTAMP:20260423T181320
CREATED:20221027T163843Z
LAST-MODIFIED:20221027T163843Z
UID:13935-1666483200-1666569599@www.jeffamsbaugh.com
SUMMARY:Grace Baptist Church - Pace\, FL
DESCRIPTION:Missions Emphasis Sunday
URL:https://www.jeffamsbaugh.com/event/grace-baptist-church-pace-fl-3/
END:VEVENT
BEGIN:VEVENT
DTSTART;VALUE=DATE:20221016
DTEND;VALUE=DATE:20221022
DTSTAMP:20260423T181320
CREATED:20210928T145251Z
LAST-MODIFIED:20210928T191131Z
UID:12170-1665878400-1666396799@www.jeffamsbaugh.com
SUMMARY:Camp Creek Baptist Church - Cornelia\, GA
DESCRIPTION:Revival
URL:https://www.jeffamsbaugh.com/event/revival/
END:VEVENT
BEGIN:VEVENT
DTSTART;VALUE=DATE:20221009
DTEND;VALUE=DATE:20221010
DTSTAMP:20260423T181320
CREATED:20220524T164529Z
LAST-MODIFIED:20220524T164529Z
UID:12940-1665273600-1665359999@www.jeffamsbaugh.com
SUMMARY:Temple Baptist Church - Flower Mound\, TX
DESCRIPTION:Sunday Services
URL:https://www.jeffamsbaugh.com/event/temple-baptist-church-flower-mound-tx/
END:VEVENT
BEGIN:VEVENT
DTSTART;VALUE=DATE:20220925
DTEND;VALUE=DATE:20220926
DTSTAMP:20260423T181320
CREATED:20220524T164339Z
LAST-MODIFIED:20220524T164339Z
UID:12938-1664064000-1664150399@www.jeffamsbaugh.com
SUMMARY:Grace Baptist Church - Pace\, FL
DESCRIPTION:Sunday Services
URL:https://www.jeffamsbaugh.com/event/grace-baptist-church-pace-fl/
END:VEVENT
BEGIN:VEVENT
DTSTART;VALUE=DATE:20220908
DTEND;VALUE=DATE:20220912
DTSTAMP:20260423T181320
CREATED:20220607T164153Z
LAST-MODIFIED:20220607T164153Z
UID:13073-1662595200-1662940799@www.jeffamsbaugh.com
SUMMARY:Tri-City Baptist Church - Port Charlotte\, FL
DESCRIPTION:Marriage Retreat
URL:https://www.jeffamsbaugh.com/event/tri-city-baptist-church-port-charlotte-fl/
END:VEVENT
BEGIN:VEVENT
DTSTART;VALUE=DATE:20220724
DTEND;VALUE=DATE:20220725
DTSTAMP:20260423T181320
CREATED:20220607T163919Z
LAST-MODIFIED:20220607T163919Z
UID:13071-1658620800-1658707199@www.jeffamsbaugh.com
SUMMARY:Grace Baptist Church - Pace\, FL
DESCRIPTION:Stewardship Sunday
URL:https://www.jeffamsbaugh.com/event/grace-baptist-church-pace-fl-2/
END:VEVENT
BEGIN:VEVENT
DTSTART;VALUE=DATE:20220626
DTEND;VALUE=DATE:20220627
DTSTAMP:20260423T181320
CREATED:20220607T163731Z
LAST-MODIFIED:20220607T163731Z
UID:13069-1656201600-1656287999@www.jeffamsbaugh.com
SUMMARY:Calvary Baptist Church - Chattanooga\, TN
DESCRIPTION:Sunday Services
URL:https://www.jeffamsbaugh.com/event/calvary-baptist-church-chattanooga-tn/
END:VEVENT
BEGIN:VEVENT
DTSTART;VALUE=DATE:20220529
DTEND;VALUE=DATE:20220530
DTSTAMP:20260423T181320
CREATED:20220524T164152Z
LAST-MODIFIED:20220524T164428Z
UID:12936-1653782400-1653868799@www.jeffamsbaugh.com
SUMMARY:Orting Community Baptist Church - Orting\, WA
DESCRIPTION:Sunday Services
URL:https://www.jeffamsbaugh.com/event/orting-community-baptist-church-orting-wa/
END:VEVENT
BEGIN:VEVENT
DTSTART;VALUE=DATE:20220522
DTEND;VALUE=DATE:20220526
DTSTAMP:20260423T181320
CREATED:20220524T163940Z
LAST-MODIFIED:20220524T163940Z
UID:12934-1653177600-1653523199@www.jeffamsbaugh.com
SUMMARY:Faith Brethren Bible Church - New Paris\, PA
DESCRIPTION:Bible Conference
URL:https://www.jeffamsbaugh.com/event/faith-brethren-bible-church-new-paris-pa/
END:VEVENT
BEGIN:VEVENT
DTSTART;VALUE=DATE:20220422
DTEND;VALUE=DATE:20220426
DTSTAMP:20260423T181320
CREATED:20210928T213055Z
LAST-MODIFIED:20210928T213152Z
UID:12220-1650585600-1650931199@www.jeffamsbaugh.com
SUMMARY:Shocco Springs Conference Center - Talladega\, AL
DESCRIPTION:Central America BIMI Field Conference
URL:https://www.jeffamsbaugh.com/event/shocco-springs-conference-center-in-talladega-al/
END:VEVENT
BEGIN:VEVENT
DTSTART;VALUE=DATE:20211022
DTEND;VALUE=DATE:20211023
DTSTAMP:20260423T181320
CREATED:20210928T145033Z
LAST-MODIFIED:20210928T190941Z
UID:12168-1634860800-1634947199@www.jeffamsbaugh.com
SUMMARY:Grace Baptist Church - Columbus\, GA
DESCRIPTION:75th Anniversary
URL:https://www.jeffamsbaugh.com/event/75th-anniversary/
END:VEVENT
END:VCALENDAR